BEGIN:VCALENDAR
VERSION:2.0
PRODID:-//COPARMEX Obregón - ECPv6.15.20//NONSGML v1.0//EN
CALSCALE:GREGORIAN
METHOD:PUBLISH
X-ORIGINAL-URL:https://coparmexobr.org
X-WR-CALDESC:Eventos para COPARMEX Obregón
REFRESH-INTERVAL;VALUE=DURATION:PT1H
X-Robots-Tag:noindex
X-PUBLISHED-TTL:PT1H
BEGIN:VTIMEZONE
TZID:America/Hermosillo
BEGIN:STANDARD
TZOFFSETFROM:-0700
TZOFFSETTO:-0700
TZNAME:MST
DTSTART:20230101T000000
END:STANDARD
END:VTIMEZONE
BEGIN:VEVENT
DTSTART;TZID=America/Hermosillo:20240417T083000
DTEND;TZID=America/Hermosillo:20240417T100000
DTSTAMP:20260419T220911
CREATED:20240502T174720Z
LAST-MODIFIED:20240502T175849Z
UID:1572-1713342600-1713348000@coparmexobr.org
SUMMARY:Diálogos por la Democracia - Bloque 1
DESCRIPTION:Sesión híbrida con sede en CDMX. \n  \n\n\n\n\nEl registro se abrirá el lunes 01 de abril y se cerrará el viernes 12 de abril a las 16:00 hrs. \nLos registros fuera de la página estarán sujetos a disponibilidad de espacios. \nRegístrate aquí \n\n 
URL:https://coparmexobr.org/evento/dialogos-por-la-democracia-bloque-1/
LOCATION:Centro Asturiano de México\, Arquímedes 4\, Polanco\, Miguel Hidalgo.\, Ciudad de México\, 11550\, México
CATEGORIES:Evento hibrido,Evento virtual,Eventos Presenciales,Sin costo para socios
ATTACH;FMTTYPE=image/png:https://coparmexobr.org/wp-content/uploads/2024/04/Eventos-COPARMEX-Nacional.png
END:VEVENT
BEGIN:VEVENT
DTSTART;TZID=America/Hermosillo:20240417T070000
DTEND;TZID=America/Hermosillo:20240417T090000
DTSTAMP:20260419T220911
CREATED:20240502T170322Z
LAST-MODIFIED:20240502T170322Z
UID:1568-1713337200-1713344400@coparmexobr.org
SUMMARY:Federaciones
DESCRIPTION:Sesión presencial en CDMX que incluye desayuno. \n  \n\n\n\n\nEl registro se abrirá el lunes 01 de abril y se cerrará el viernes 12 de abril a las 16:00 hrs. \nLos registros fuera de la página estarán sujetos a disponibilidad de espacios. \nRegístrate aquí \n\nCosto: $990.00 Pago en el evento.
URL:https://coparmexobr.org/evento/federaciones/
LOCATION:Centro Asturiano de México\, Arquímedes 4\, Polanco\, Miguel Hidalgo.\, Ciudad de México\, 11550\, México
CATEGORIES:Con costo extra,Desayuno,Eventos Presenciales
ATTACH;FMTTYPE=image/png:https://coparmexobr.org/wp-content/uploads/2024/04/Eventos-COPARMEX-Nacional.png
END:VEVENT
BEGIN:VEVENT
DTSTART;TZID=America/Hermosillo:20240417T070000
DTEND;TZID=America/Hermosillo:20240417T083000
DTSTAMP:20260419T220911
CREATED:20240502T165904Z
LAST-MODIFIED:20240502T165904Z
UID:1561-1713337200-1713342600@coparmexobr.org
SUMMARY:Innovación Empresarial
DESCRIPTION:Sesión presencial en CDMX que incluye desayuno. \n  \n\n\n\n\nEl registro se abrirá el lunes 01 de abril y se cerrará el viernes 12 de abril a las 16:00 hrs. \nLos registros fuera de la página estarán sujetos a disponibilidad de espacios. \nRegístrate aquí \n\nCosto: $990.00 Pago en el evento.
URL:https://coparmexobr.org/evento/innovacion-empresarial/
LOCATION:Centro Asturiano de México\, Arquímedes 4\, Polanco\, Miguel Hidalgo.\, Ciudad de México\, 11550\, México
CATEGORIES:Con costo extra,Desayuno,Eventos Presenciales
ATTACH;FMTTYPE=image/png:https://coparmexobr.org/wp-content/uploads/2024/04/Eventos-COPARMEX-Nacional.png
END:VEVENT
BEGIN:VEVENT
DTSTART;TZID=America/Hermosillo:20240416T123000
DTEND;TZID=America/Hermosillo:20240416T140000
DTSTAMP:20260419T220911
CREATED:20240502T162107Z
LAST-MODIFIED:20240502T211751Z
UID:1556-1713270600-1713276000@coparmexobr.org
SUMMARY:Comisión de trabajo: Turismo
DESCRIPTION:Sesión híbrida con sede presencial en CDMX. \n\n\n\n\nEl registro se abrirá el lunes 01 de abril y se cerrará el viernes 12 de abril a las 16:00 hrs. \nLos registros fuera de la página estarán sujetos a disponibilidad de espacios. \nRegístrate aquí \n\nEvento presencial con un costo de $715.000 MXN y virtual sin costo para socios.
URL:https://coparmexobr.org/evento/comision-de-trabajo-turismo/
LOCATION:Centro Asturiano de México\, Arquímedes 4\, Polanco\, Miguel Hidalgo.\, Ciudad de México\, 11550\, México
CATEGORIES:Evento hibrido,Evento virtual,Eventos Presenciales,Sin costo para socios
ATTACH;FMTTYPE=image/png:https://coparmexobr.org/wp-content/uploads/2024/05/Comisiones-de-trabajo-Agenda-Nacional.png
END:VEVENT
BEGIN:VEVENT
DTSTART;TZID=America/Hermosillo:20240416T103000
DTEND;TZID=America/Hermosillo:20240416T113000
DTSTAMP:20260419T220911
CREATED:20240502T161928Z
LAST-MODIFIED:20240502T211737Z
UID:1554-1713263400-1713267000@coparmexobr.org
SUMMARY:Comisión de trabajo: Desarrollo ecológico y Sustentable
DESCRIPTION:Sesión híbrida con sede presencial en CDMX. \n\n\n\n\nEl registro se abrirá el lunes 01 de abril y se cerrará el viernes 12 de abril a las 16:00 hrs. \nLos registros fuera de la página estarán sujetos a disponibilidad de espacios. \nRegístrate aquí \n\nEvento presencial con un costo de $715.000 MXN y virtual sin costo para socios.
URL:https://coparmexobr.org/evento/comision-de-trabajo-desarrollo-ecologico/
LOCATION:Centro Asturiano de México\, Arquímedes 4\, Polanco\, Miguel Hidalgo.\, Ciudad de México\, 11550\, México
CATEGORIES:Evento hibrido,Evento virtual,Eventos Presenciales,Sin costo para socios
ATTACH;FMTTYPE=image/png:https://coparmexobr.org/wp-content/uploads/2024/05/Comisiones-de-trabajo-Agenda-Nacional.png
END:VEVENT
BEGIN:VEVENT
DTSTART;TZID=America/Hermosillo:20240416T090000
DTEND;TZID=America/Hermosillo:20240416T103000
DTSTAMP:20260419T220911
CREATED:20240502T161749Z
LAST-MODIFIED:20240502T211729Z
UID:1551-1713258000-1713263400@coparmexobr.org
SUMMARY:Comisión de trabajo: Salud
DESCRIPTION:Sesión híbrida con sede presencial en CDMX. \n\n\n\n\nEl registro se abrirá el lunes 01 de abril y se cerrará el viernes 12 de abril a las 16:00 hrs. \nLos registros fuera de la página estarán sujetos a disponibilidad de espacios. \nRegístrate aquí \n\nEvento presencial con un costo de $715.000 MXN y virtual sin costo para socios.
URL:https://coparmexobr.org/evento/comision-de-trabajo-salud/
LOCATION:Centro Asturiano de México\, Arquímedes 4\, Polanco\, Miguel Hidalgo.\, Ciudad de México\, 11550\, México
CATEGORIES:Evento hibrido,Evento virtual,Eventos Presenciales,Sin costo para socios
ATTACH;FMTTYPE=image/png:https://coparmexobr.org/wp-content/uploads/2024/05/Comisiones-de-trabajo-Agenda-Nacional.png
END:VEVENT
BEGIN:VEVENT
DTSTART;TZID=America/Hermosillo:20240416T083000
DTEND;TZID=America/Hermosillo:20240416T133000
DTSTAMP:20260419T220911
CREATED:20240430T193449Z
LAST-MODIFIED:20240502T213329Z
UID:1520-1713256200-1713274200@coparmexobr.org
SUMMARY:Taller: de Ética e integridad
DESCRIPTION:Sesión hibrida con sede en CDMX. \n  \n\n\n\n\nEl registro se abrirá el lunes 01 de abril y se cerrará el viernes 12 de abril a las 16:00 hrs. \nLos registros fuera de la página estarán sujetos a disponibilidad de espacios. \nRegístrate aquí \n\nEvento presencial con un costo de $715.000 MXN y virtual sin costo para socios.
URL:https://coparmexobr.org/evento/taller-de-etica-e-integridad/
LOCATION:Centro Asturiano de México\, Arquímedes 4\, Polanco\, Miguel Hidalgo.\, Ciudad de México\, 11550\, México
CATEGORIES:Desayuno,Evento hibrido,Evento virtual,Eventos Presenciales,Sin costo para socios
ATTACH;FMTTYPE=image/png:https://coparmexobr.org/wp-content/uploads/2024/04/Eventos-COPARMEX-Nacional.png
END:VEVENT
BEGIN:VEVENT
DTSTART;TZID=America/Hermosillo:20240416T080000
DTEND;TZID=America/Hermosillo:20240416T130000
DTSTAMP:20260419T220911
CREATED:20240430T195656Z
LAST-MODIFIED:20240430T195656Z
UID:1532-1713254400-1713272400@coparmexobr.org
SUMMARY:Foro de seguridad
DESCRIPTION:Sesión presencial en CDMX que incluye desayuno. \n  \n\n\n\n\nEl registro se abrirá el lunes 01 de abril y se cerrará el viernes 12 de abril a las 16:00 hrs. \nLos registros fuera de la página estarán sujetos a disponibilidad de espacios. \nRegístrate aquí \n\nCosto: $990.00 Pago en el evento.
URL:https://coparmexobr.org/evento/foro-de-seguridad/
LOCATION:Hotel Sheraton María Isabel\, Reforma 325\, Cuauhtémoc\, Ciudad de México\, 06500\, México
CATEGORIES:Con costo extra,Desayuno,Eventos Presenciales
ATTACH;FMTTYPE=image/png:https://coparmexobr.org/wp-content/uploads/2024/04/Eventos-COPARMEX-Nacional.png
END:VEVENT
BEGIN:VEVENT
DTSTART;TZID=America/Hermosillo:20240416T070000
DTEND;TZID=America/Hermosillo:20240416T080000
DTSTAMP:20260419T220911
CREATED:20240430T191449Z
LAST-MODIFIED:20240502T194823Z
UID:1489-1713250800-1713254400@coparmexobr.org
SUMMARY:Ética e integridad
DESCRIPTION:Sesión presencial en CDMX que incluye desayuno. \n  \n\n\n\n\nEl registro se abrirá el lunes 01 de abril y se cerrará el viernes 12 de abril a las 16:00 hrs. \nLos registros fuera de la página estarán sujetos a disponibilidad de espacios. \nRegístrate aquí \n\nCosto: $990.00 
URL:https://coparmexobr.org/evento/etica-e-integridad/
LOCATION:Centro Asturiano de México\, Arquímedes 4\, Polanco\, Miguel Hidalgo.\, Ciudad de México\, 11550\, México
CATEGORIES:Con costo extra,Desayuno,Eventos Presenciales
ATTACH;FMTTYPE=image/png:https://coparmexobr.org/wp-content/uploads/2024/04/Eventos-COPARMEX-Nacional.png
END:VEVENT
END:VCALENDAR